BEGIN:VCALENDAR
VERSION:2.0
PRODID:-//Bent Tree Golf Club - ECPv6.15.18//NONSGML v1.0//EN
CALSCALE:GREGORIAN
METHOD:PUBLISH
X-WR-CALNAME:Bent Tree Golf Club
X-ORIGINAL-URL:https://www.benttreegc.com
X-WR-CALDESC:Events for Bent Tree Golf Club
REFRESH-INTERVAL;VALUE=DURATION:PT1H
X-Robots-Tag:noindex
X-PUBLISHED-TTL:PT1H
BEGIN:VTIMEZONE
TZID:America/New_York
BEGIN:DAYLIGHT
TZOFFSETFROM:-0500
TZOFFSETTO:-0400
TZNAME:EDT
DTSTART:20240310T070000
END:DAYLIGHT
BEGIN:STANDARD
TZOFFSETFROM:-0400
TZOFFSETTO:-0500
TZNAME:EST
DTSTART:20241103T060000
END:STANDARD
BEGIN:DAYLIGHT
TZOFFSETFROM:-0500
TZOFFSETTO:-0400
TZNAME:EDT
DTSTART:20250309T070000
END:DAYLIGHT
BEGIN:STANDARD
TZOFFSETFROM:-0400
TZOFFSETTO:-0500
TZNAME:EST
DTSTART:20251102T060000
END:STANDARD
BEGIN:DAYLIGHT
TZOFFSETFROM:-0500
TZOFFSETTO:-0400
TZNAME:EDT
DTSTART:20260308T070000
END:DAYLIGHT
BEGIN:STANDARD
TZOFFSETFROM:-0400
TZOFFSETTO:-0500
TZNAME:EST
DTSTART:20261101T060000
END:STANDARD
END:VTIMEZONE
BEGIN:VEVENT
DTSTART;TZID=America/New_York:20250607T130000
DTEND;TZID=America/New_York:20250607T140000
DTSTAMP:20260425T093031
CREATED:20250528T170047Z
LAST-MODIFIED:20250528T170047Z
UID:10000008-1749301200-1749304800@www.benttreegc.com
SUMMARY:Fore The Ladies
DESCRIPTION:Join us on Saturday\, June 7th from 1:00pm-2:00pm for a complimentary golf clinic designed to welcome and empower women in the game of golf. \nThis open-house style event will feature: \n\nGolf Etiquette Tips\nFull Swing Fundamentals\nShort Game & Putting Instruction\n\nCome for the full experience or drop in for a portion – the choice is yours! \nAll skill levels welcome. Space is limited.
URL:https://www.benttreegc.com/event/fore-the-ladies/
LOCATION:Bent Tree Golf Club
ATTACH;FMTTYPE=image/jpeg:https://www.benttreegc.com/wp-content/uploads/sites/8862/2025/05/Fore-The-Ladies-BT.jpg
END:VEVENT
END:VCALENDAR