BEGIN:VCALENDAR
VERSION:2.0
PRODID:-//Bent Tree Golf Club - ECPv6.15.18//NONSGML v1.0//EN
CALSCALE:GREGORIAN
METHOD:PUBLISH
X-ORIGINAL-URL:https://www.benttreegc.com
X-WR-CALDESC:Events for Bent Tree Golf Club
REFRESH-INTERVAL;VALUE=DURATION:PT1H
X-Robots-Tag:noindex
X-PUBLISHED-TTL:PT1H
BEGIN:VTIMEZONE
TZID:America/New_York
BEGIN:DAYLIGHT
TZOFFSETFROM:-0500
TZOFFSETTO:-0400
TZNAME:EDT
DTSTART:20240310T070000
END:DAYLIGHT
BEGIN:STANDARD
TZOFFSETFROM:-0400
TZOFFSETTO:-0500
TZNAME:EST
DTSTART:20241103T060000
END:STANDARD
BEGIN:DAYLIGHT
TZOFFSETFROM:-0500
TZOFFSETTO:-0400
TZNAME:EDT
DTSTART:20250309T070000
END:DAYLIGHT
BEGIN:STANDARD
TZOFFSETFROM:-0400
TZOFFSETTO:-0500
TZNAME:EST
DTSTART:20251102T060000
END:STANDARD
BEGIN:DAYLIGHT
TZOFFSETFROM:-0500
TZOFFSETTO:-0400
TZNAME:EDT
DTSTART:20260308T070000
END:DAYLIGHT
BEGIN:STANDARD
TZOFFSETFROM:-0400
TZOFFSETTO:-0500
TZNAME:EST
DTSTART:20261101T060000
END:STANDARD
END:VTIMEZONE
BEGIN:VEVENT
DTSTART;TZID=America/New_York:20250628T133000
DTEND;TZID=America/New_York:20250628T133000
DTSTAMP:20260422T161011
CREATED:20250519T125132Z
LAST-MODIFIED:20250521T133932Z
UID:10000007-1751117400-1751117400@www.benttreegc.com
SUMMARY:Fore Freedom Scramble
DESCRIPTION:Join Us for the Fore Freedom Scramble at Bent Tree Golf Club! \n  \nGet ready for a day of fun\, camaraderie\, and golf at the Fore Freedom Scramble on Saturday\, June 28th\, 2025 at Bent Tree Golf Club! A portion of the proceeds will benefit the Folds of Honor Foundation\, which provides educational scholarships to the spouses and children of America’s fallen and disabled service members. Don’t miss this fantastic event that combines the love of golf with a worthy cause. \n  \nDate: Saturday\, June 28th\, 2025 \nTime: 1:30 pm Shotgun Start \nLocation: Bent Tree Golf Club \nCost: $90 Per Person | $360 Per 4-Some \nFormat: Scramble \nIncludes: 18 Holes of Golf\, Cart\, Range Balls\, On-Course Contests & Prizes\, Cookout Buffet and 2 Draft Beer Tickets After Golf\, Pro Shop Gift\, and $10 Folds of Honor Donation Per Player \n Register: HERE \nSecure your spot today and play for an honorable cause! Join us in supporting the Folds of Honor Foundation while enjoying a great day of golf.
URL:https://www.benttreegc.com/event/fore-freedom-scramble-2/
LOCATION:Bent Tree Golf Club
ATTACH;FMTTYPE=image/jpeg:https://www.benttreegc.com/wp-content/uploads/sites/8862/2025/05/FORE-FREEDOM-NO-QR-2025-UPDATED.jpg
END:VEVENT
END:VCALENDAR