BEGIN:VCALENDAR
VERSION:2.0
PRODID:-//Bent Tree Golf Club - ECPv6.15.18//NONSGML v1.0//EN
CALSCALE:GREGORIAN
METHOD:PUBLISH
X-WR-CALNAME:Bent Tree Golf Club
X-ORIGINAL-URL:https://www.benttreegc.com
X-WR-CALDESC:Events for Bent Tree Golf Club
REFRESH-INTERVAL;VALUE=DURATION:PT1H
X-Robots-Tag:noindex
X-PUBLISHED-TTL:PT1H
BEGIN:VTIMEZONE
TZID:America/New_York
BEGIN:DAYLIGHT
TZOFFSETFROM:-0500
TZOFFSETTO:-0400
TZNAME:EDT
DTSTART:20240310T070000
END:DAYLIGHT
BEGIN:STANDARD
TZOFFSETFROM:-0400
TZOFFSETTO:-0500
TZNAME:EST
DTSTART:20241103T060000
END:STANDARD
BEGIN:DAYLIGHT
TZOFFSETFROM:-0500
TZOFFSETTO:-0400
TZNAME:EDT
DTSTART:20250309T070000
END:DAYLIGHT
BEGIN:STANDARD
TZOFFSETFROM:-0400
TZOFFSETTO:-0500
TZNAME:EST
DTSTART:20251102T060000
END:STANDARD
BEGIN:DAYLIGHT
TZOFFSETFROM:-0500
TZOFFSETTO:-0400
TZNAME:EDT
DTSTART:20260308T070000
END:DAYLIGHT
BEGIN:STANDARD
TZOFFSETFROM:-0400
TZOFFSETTO:-0500
TZNAME:EST
DTSTART:20261101T060000
END:STANDARD
END:VTIMEZONE
BEGIN:VEVENT
DTSTART;TZID=America/New_York:20250921T133000
DTEND;TZID=America/New_York:20250921T133000
DTSTAMP:20260423T055350
CREATED:20250825T140206Z
LAST-MODIFIED:20250825T140206Z
UID:10000018-1758461400-1758461400@www.benttreegc.com
SUMMARY:The Ultimate Tailgate Scramble
DESCRIPTION:Bent Tree Golf Club-The Ultimate Tailgate Scramble \n  \nDate: Sunday\, September 21\, 2025 \nTime: 1:30 PM Shotgun \nFormat: 4-Player Scramble \nCost: $79 Per Player |  $316 Per Team \nIncludes: Green Fee\, Cart\, Range Balls\, Prizes\, Buckeye Buffet\, and Draft Beer after Golf \nRegister: HERE
URL:https://www.benttreegc.com/event/the-ultimate-tailgate-scramble/
LOCATION:Bent Tree Golf Club
ATTACH;FMTTYPE=image/jpeg:https://www.benttreegc.com/wp-content/uploads/sites/8862/2025/08/Tailgate-Scramble.jpg
END:VEVENT
END:VCALENDAR